BEGIN:VCALENDAR
VERSION:2.0
PRODID:-//Harmony Grove UMC - ECPv6.15.20//NONSGML v1.0//EN
CALSCALE:GREGORIAN
METHOD:PUBLISH
X-WR-CALNAME:Harmony Grove UMC
X-ORIGINAL-URL:https://harmonygrove-umc.org
X-WR-CALDESC:Events for Harmony Grove UMC
REFRESH-INTERVAL;VALUE=DURATION:PT1H
X-Robots-Tag:noindex
X-PUBLISHED-TTL:PT1H
BEGIN:VTIMEZONE
TZID:America/New_York
BEGIN:DAYLIGHT
TZOFFSETFROM:-0500
TZOFFSETTO:-0400
TZNAME:EDT
DTSTART:20250309T070000
END:DAYLIGHT
BEGIN:STANDARD
TZOFFSETFROM:-0400
TZOFFSETTO:-0500
TZNAME:EST
DTSTART:20251102T060000
END:STANDARD
BEGIN:DAYLIGHT
TZOFFSETFROM:-0500
TZOFFSETTO:-0400
TZNAME:EDT
DTSTART:20260308T070000
END:DAYLIGHT
BEGIN:STANDARD
TZOFFSETFROM:-0400
TZOFFSETTO:-0500
TZNAME:EST
DTSTART:20261101T060000
END:STANDARD
BEGIN:DAYLIGHT
TZOFFSETFROM:-0500
TZOFFSETTO:-0400
TZNAME:EDT
DTSTART:20270314T070000
END:DAYLIGHT
BEGIN:STANDARD
TZOFFSETFROM:-0400
TZOFFSETTO:-0500
TZNAME:EST
DTSTART:20271107T060000
END:STANDARD
END:VTIMEZONE
BEGIN:VEVENT
DTSTART;TZID=America/New_York:20260721T130000
DTEND;TZID=America/New_York:20260721T130000
DTSTAMP:20260420T094022
CREATED:20260419T171545Z
LAST-MODIFIED:20260419T171545Z
UID:31573-1784638800-1784638800@harmonygrove-umc.org
SUMMARY:Summer Bible Study
DESCRIPTION:Study of “The Familiar Stranger: (Re) Introducing the Holy Spirit to Those in Search of an Experiential Spirituality” by Tyler Staton
URL:https://harmonygrove-umc.org/event/summer-bible-study-5/
ATTACH;FMTTYPE=image/jpeg:https://harmonygrove-umc.org/wp-content/uploads/2026/04/The-Familiar-Stranger.jpg
END:VEVENT
BEGIN:VEVENT
DTSTART;TZID=America/New_York:20260721T130000
DTEND;TZID=America/New_York:20260721T130000
DTSTAMP:20260420T094022
CREATED:20260419T172847Z
LAST-MODIFIED:20260419T172847Z
UID:31581-1784638800-1784638800@harmonygrove-umc.org
SUMMARY:Prayer Gathering
DESCRIPTION:
URL:https://harmonygrove-umc.org/event/prayer-gathering-87/
ATTACH;FMTTYPE=image/jpeg:https://harmonygrove-umc.org/wp-content/uploads/2023/11/prayer-meeting.jpg
END:VEVENT
END:VCALENDAR