BEGIN:VCALENDAR
VERSION:2.0
PRODID:-//Harmony Grove UMC - ECPv6.15.20//NONSGML v1.0//EN
CALSCALE:GREGORIAN
METHOD:PUBLISH
X-ORIGINAL-URL:https://harmonygrove-umc.org
X-WR-CALDESC:Events for Harmony Grove UMC
REFRESH-INTERVAL;VALUE=DURATION:PT1H
X-Robots-Tag:noindex
X-PUBLISHED-TTL:PT1H
BEGIN:VTIMEZONE
TZID:America/New_York
BEGIN:DAYLIGHT
TZOFFSETFROM:-0500
TZOFFSETTO:-0400
TZNAME:EDT
DTSTART:20250309T070000
END:DAYLIGHT
BEGIN:STANDARD
TZOFFSETFROM:-0400
TZOFFSETTO:-0500
TZNAME:EST
DTSTART:20251102T060000
END:STANDARD
BEGIN:DAYLIGHT
TZOFFSETFROM:-0500
TZOFFSETTO:-0400
TZNAME:EDT
DTSTART:20260308T070000
END:DAYLIGHT
BEGIN:STANDARD
TZOFFSETFROM:-0400
TZOFFSETTO:-0500
TZNAME:EST
DTSTART:20261101T060000
END:STANDARD
BEGIN:DAYLIGHT
TZOFFSETFROM:-0500
TZOFFSETTO:-0400
TZNAME:EDT
DTSTART:20270314T070000
END:DAYLIGHT
BEGIN:STANDARD
TZOFFSETFROM:-0400
TZOFFSETTO:-0500
TZNAME:EST
DTSTART:20271107T060000
END:STANDARD
END:VTIMEZONE
BEGIN:VEVENT
DTSTART;TZID=America/New_York:20260621T094500
DTEND;TZID=America/New_York:20260621T104500
DTSTAMP:20260419T133431
CREATED:20260329T173855Z
LAST-MODIFIED:20260329T173855Z
UID:31495-1782035100-1782038700@harmonygrove-umc.org
SUMMARY:Sunday School
DESCRIPTION:
URL:https://harmonygrove-umc.org/event/sunday-school-141/
ATTACH;FMTTYPE=image/jpeg:https://harmonygrove-umc.org/wp-content/uploads/2023/10/Sunday-School.jpg
END:VEVENT
BEGIN:VEVENT
DTSTART;TZID=America/New_York:20260621T110000
DTEND;TZID=America/New_York:20260621T110000
DTSTAMP:20260419T133431
CREATED:20260329T174102Z
LAST-MODIFIED:20260329T174102Z
UID:31503-1782039600-1782039600@harmonygrove-umc.org
SUMMARY:Worship Service
DESCRIPTION:
URL:https://harmonygrove-umc.org/event/worship-service-129/
ATTACH;FMTTYPE=image/jpeg:https://harmonygrove-umc.org/wp-content/uploads/2023/09/Harmony-Grove-Today.jpg
END:VEVENT
BEGIN:VEVENT
DTSTART;TZID=America/New_York:20260623T130000
DTEND;TZID=America/New_York:20260623T130000
DTSTAMP:20260419T133431
CREATED:20260329T174422Z
LAST-MODIFIED:20260329T174422Z
UID:31511-1782219600-1782219600@harmonygrove-umc.org
SUMMARY:Prayer Gathering
DESCRIPTION:
URL:https://harmonygrove-umc.org/event/prayer-gathering-84/
ATTACH;FMTTYPE=image/jpeg:https://harmonygrove-umc.org/wp-content/uploads/2023/11/prayer-meeting.jpg
END:VEVENT
BEGIN:VEVENT
DTSTART;TZID=America/New_York:20260623T130000
DTEND;TZID=America/New_York:20260623T130000
DTSTAMP:20260419T133431
CREATED:20260419T171131Z
LAST-MODIFIED:20260419T171131Z
UID:31565-1782219600-1782219600@harmonygrove-umc.org
SUMMARY:Summer Bible Study
DESCRIPTION:Study of “The Familiar Stranger: (Re) Introducing the Holy Spirit to Those in Search of an Experiential Spirituality” by Tyler Staton
URL:https://harmonygrove-umc.org/event/summer-bible-study/
ATTACH;FMTTYPE=image/jpeg:https://harmonygrove-umc.org/wp-content/uploads/2026/04/The-Familiar-Stranger.jpg
END:VEVENT
BEGIN:VEVENT
DTSTART;TZID=America/New_York:20260624T163000
DTEND;TZID=America/New_York:20260624T163000
DTSTAMP:20260419T133431
CREATED:20260329T175010Z
LAST-MODIFIED:20260419T172509Z
UID:31531-1782318600-1782318600@harmonygrove-umc.org
SUMMARY:Choir Practice
DESCRIPTION:
URL:https://harmonygrove-umc.org/event/choir-practice-130/
ATTACH;FMTTYPE=image/jpeg:https://harmonygrove-umc.org/wp-content/uploads/2023/10/Choir-Practice-scaled.jpg
END:VEVENT
BEGIN:VEVENT
DTSTART;TZID=America/New_York:20260628T094500
DTEND;TZID=America/New_York:20260628T104500
DTSTAMP:20260419T133431
CREATED:20260329T173933Z
LAST-MODIFIED:20260329T173933Z
UID:31497-1782639900-1782643500@harmonygrove-umc.org
SUMMARY:Sunday School
DESCRIPTION:
URL:https://harmonygrove-umc.org/event/sunday-school-142/
ATTACH;FMTTYPE=image/jpeg:https://harmonygrove-umc.org/wp-content/uploads/2023/10/Sunday-School.jpg
END:VEVENT
BEGIN:VEVENT
DTSTART;TZID=America/New_York:20260628T110000
DTEND;TZID=America/New_York:20260628T110000
DTSTAMP:20260419T133431
CREATED:20260329T174131Z
LAST-MODIFIED:20260329T174131Z
UID:31505-1782644400-1782644400@harmonygrove-umc.org
SUMMARY:Worship Service
DESCRIPTION:
URL:https://harmonygrove-umc.org/event/worship-service-130/
ATTACH;FMTTYPE=image/jpeg:https://harmonygrove-umc.org/wp-content/uploads/2023/09/Harmony-Grove-Today.jpg
END:VEVENT
BEGIN:VEVENT
DTSTART;TZID=America/New_York:20260628T120000
DTEND;TZID=America/New_York:20260628T120000
DTSTAMP:20260419T133431
CREATED:20260329T174600Z
LAST-MODIFIED:20260329T174600Z
UID:31517-1782648000-1782648000@harmonygrove-umc.org
SUMMARY:Youth Group Ministry
DESCRIPTION:
URL:https://harmonygrove-umc.org/event/youth-group-ministry-48/
ATTACH;FMTTYPE=image/gif:https://harmonygrove-umc.org/wp-content/uploads/2023/12/Church-Youth-Ministry-Clip-Art.gif
END:VEVENT
BEGIN:VEVENT
DTSTART;TZID=America/New_York:20260630T130000
DTEND;TZID=America/New_York:20260630T130000
DTSTAMP:20260419T133431
CREATED:20260329T174453Z
LAST-MODIFIED:20260329T174453Z
UID:31513-1782824400-1782824400@harmonygrove-umc.org
SUMMARY:Prayer Gathering
DESCRIPTION:
URL:https://harmonygrove-umc.org/event/prayer-gathering-85/
ATTACH;FMTTYPE=image/jpeg:https://harmonygrove-umc.org/wp-content/uploads/2023/11/prayer-meeting.jpg
END:VEVENT
BEGIN:VEVENT
DTSTART;TZID=America/New_York:20260630T130000
DTEND;TZID=America/New_York:20260630T130000
DTSTAMP:20260419T133431
CREATED:20260419T171209Z
LAST-MODIFIED:20260419T171209Z
UID:31567-1782824400-1782824400@harmonygrove-umc.org
SUMMARY:Summer Bible Study
DESCRIPTION:Study of “The Familiar Stranger: (Re) Introducing the Holy Spirit to Those in Search of an Experiential Spirituality” by Tyler Staton
URL:https://harmonygrove-umc.org/event/summer-bible-study-2/
ATTACH;FMTTYPE=image/jpeg:https://harmonygrove-umc.org/wp-content/uploads/2026/04/The-Familiar-Stranger.jpg
END:VEVENT
BEGIN:VEVENT
DTSTART;TZID=America/New_York:20260701T163000
DTEND;TZID=America/New_York:20260701T163000
DTSTAMP:20260419T133431
CREATED:20260329T174824Z
LAST-MODIFIED:20260419T172402Z
UID:31525-1782923400-1782923400@harmonygrove-umc.org
SUMMARY:Choir Practice
DESCRIPTION:
URL:https://harmonygrove-umc.org/event/choir-practice-127/
ATTACH;FMTTYPE=image/jpeg:https://harmonygrove-umc.org/wp-content/uploads/2023/10/Choir-Practice-scaled.jpg
END:VEVENT
BEGIN:VEVENT
DTSTART;VALUE=DATE:20260704
DTEND;VALUE=DATE:20260705
DTSTAMP:20260419T133431
CREATED:20260329T175241Z
LAST-MODIFIED:20260329T175241Z
UID:31533-1783123200-1783209599@harmonygrove-umc.org
SUMMARY:Independence Day
DESCRIPTION:
URL:https://harmonygrove-umc.org/event/independence-day-2/
ATTACH;FMTTYPE=image/jpeg:https://harmonygrove-umc.org/wp-content/uploads/2023/09/Happy-4th-july.jpg
END:VEVENT
BEGIN:VEVENT
DTSTART;TZID=America/New_York:20260705T094500
DTEND;TZID=America/New_York:20260705T104500
DTSTAMP:20260419T133431
CREATED:20260419T173404Z
LAST-MODIFIED:20260419T173404Z
UID:31599-1783244700-1783248300@harmonygrove-umc.org
SUMMARY:Sunday School
DESCRIPTION:
URL:https://harmonygrove-umc.org/event/sunday-school-143/
ATTACH;FMTTYPE=image/jpeg:https://harmonygrove-umc.org/wp-content/uploads/2023/10/Sunday-School.jpg
END:VEVENT
BEGIN:VEVENT
DTSTART;TZID=America/New_York:20260707T130000
DTEND;TZID=America/New_York:20260707T130000
DTSTAMP:20260419T133431
CREATED:20260419T171410Z
LAST-MODIFIED:20260419T171410Z
UID:31569-1783429200-1783429200@harmonygrove-umc.org
SUMMARY:Summer Bible Study
DESCRIPTION:Study of “The Familiar Stranger: (Re) Introducing the Holy Spirit to Those in Search of an Experiential Spirituality” by Tyler Staton
URL:https://harmonygrove-umc.org/event/summer-bible-study-3/
ATTACH;FMTTYPE=image/jpeg:https://harmonygrove-umc.org/wp-content/uploads/2026/04/The-Familiar-Stranger.jpg
END:VEVENT
BEGIN:VEVENT
DTSTART;TZID=America/New_York:20260707T130000
DTEND;TZID=America/New_York:20260707T130000
DTSTAMP:20260419T133431
CREATED:20260419T172745Z
LAST-MODIFIED:20260419T172745Z
UID:31577-1783429200-1783429200@harmonygrove-umc.org
SUMMARY:Prayer Gathering
DESCRIPTION:
URL:https://harmonygrove-umc.org/event/prayer-gathering-78/
ATTACH;FMTTYPE=image/jpeg:https://harmonygrove-umc.org/wp-content/uploads/2023/11/prayer-meeting.jpg
END:VEVENT
BEGIN:VEVENT
DTSTART;TZID=America/New_York:20260708T150000
DTEND;TZID=America/New_York:20260708T163000
DTSTAMP:20260419T133431
CREATED:20260419T173322Z
LAST-MODIFIED:20260419T173322Z
UID:31597-1783522800-1783528200@harmonygrove-umc.org
SUMMARY:Drive Thru Prayer
DESCRIPTION:
URL:https://harmonygrove-umc.org/event/drive-thru-prayer-26/
ATTACH;FMTTYPE=image/jpeg:https://harmonygrove-umc.org/wp-content/uploads/2023/10/DriveThruPrayer.jpg
END:VEVENT
BEGIN:VEVENT
DTSTART;TZID=America/New_York:20260708T163000
DTEND;TZID=America/New_York:20260708T163000
DTSTAMP:20260419T133431
CREATED:20260419T173015Z
LAST-MODIFIED:20260419T173015Z
UID:31585-1783528200-1783528200@harmonygrove-umc.org
SUMMARY:Choir Practice
DESCRIPTION:
URL:https://harmonygrove-umc.org/event/choir-practice-131/
ATTACH;FMTTYPE=image/jpeg:https://harmonygrove-umc.org/wp-content/uploads/2023/10/Choir-Practice-scaled.jpg
END:VEVENT
BEGIN:VEVENT
DTSTART;TZID=America/New_York:20260711T090000
DTEND;TZID=America/New_York:20260711T133000
DTSTAMP:20260419T133431
CREATED:20260221T005509Z
LAST-MODIFIED:20260221T005509Z
UID:31352-1783760400-1783776600@harmonygrove-umc.org
SUMMARY:Lewisville Community Blood Drive
DESCRIPTION:New Hope AME Zion Church- 7000 Shallowford Road- Lewisville\, NC
URL:https://harmonygrove-umc.org/event/lewisville-community-blood-drive-13/
ATTACH;FMTTYPE=image/jpeg:https://harmonygrove-umc.org/wp-content/uploads/2023/11/blooddrive.jpg
END:VEVENT
BEGIN:VEVENT
DTSTART;TZID=America/New_York:20260714T130000
DTEND;TZID=America/New_York:20260714T130000
DTSTAMP:20260419T133431
CREATED:20260419T171508Z
LAST-MODIFIED:20260419T171508Z
UID:31571-1784034000-1784034000@harmonygrove-umc.org
SUMMARY:Summer Bible Study
DESCRIPTION:Study of “The Familiar Stranger: (Re) Introducing the Holy Spirit to Those in Search of an Experiential Spirituality” by Tyler Staton
URL:https://harmonygrove-umc.org/event/summer-bible-study-4/
ATTACH;FMTTYPE=image/jpeg:https://harmonygrove-umc.org/wp-content/uploads/2026/04/The-Familiar-Stranger.jpg
END:VEVENT
BEGIN:VEVENT
DTSTART;TZID=America/New_York:20260714T130000
DTEND;TZID=America/New_York:20260714T130000
DTSTAMP:20260419T133431
CREATED:20260419T172818Z
LAST-MODIFIED:20260419T172818Z
UID:31579-1784034000-1784034000@harmonygrove-umc.org
SUMMARY:Prayer Gathering
DESCRIPTION:
URL:https://harmonygrove-umc.org/event/prayer-gathering-86/
ATTACH;FMTTYPE=image/jpeg:https://harmonygrove-umc.org/wp-content/uploads/2023/11/prayer-meeting.jpg
END:VEVENT
BEGIN:VEVENT
DTSTART;TZID=America/New_York:20260715T163000
DTEND;TZID=America/New_York:20260715T163000
DTSTAMP:20260419T133431
CREATED:20260419T173047Z
LAST-MODIFIED:20260419T173047Z
UID:31587-1784133000-1784133000@harmonygrove-umc.org
SUMMARY:Choir Practice
DESCRIPTION:
URL:https://harmonygrove-umc.org/event/choir-practice-132/
ATTACH;FMTTYPE=image/jpeg:https://harmonygrove-umc.org/wp-content/uploads/2023/10/Choir-Practice-scaled.jpg
END:VEVENT
BEGIN:VEVENT
DTSTART;TZID=America/New_York:20260715T173000
DTEND;TZID=America/New_York:20260715T173000
DTSTAMP:20260419T133431
CREATED:20260419T173219Z
LAST-MODIFIED:20260419T173219Z
UID:31593-1784136600-1784136600@harmonygrove-umc.org
SUMMARY:UMM Meeting
DESCRIPTION:
URL:https://harmonygrove-umc.org/event/umm-meeting-31/
ATTACH;FMTTYPE=image/jpeg:https://harmonygrove-umc.org/wp-content/uploads/2023/09/UMM-logo_plain.jpg
END:VEVENT
BEGIN:VEVENT
DTSTART;TZID=America/New_York:20260715T173000
DTEND;TZID=America/New_York:20260715T173000
DTSTAMP:20260419T133431
CREATED:20260419T173250Z
LAST-MODIFIED:20260419T173250Z
UID:31595-1784136600-1784136600@harmonygrove-umc.org
SUMMARY:UWF Meeting
DESCRIPTION:
URL:https://harmonygrove-umc.org/event/uwf-meeting-31/
ATTACH;FMTTYPE=image/jpeg:https://harmonygrove-umc.org/wp-content/uploads/2023/09/UWF_Logo_color-scaled.jpg
END:VEVENT
BEGIN:VEVENT
DTSTART;TZID=America/New_York:20260721T130000
DTEND;TZID=America/New_York:20260721T130000
DTSTAMP:20260419T133431
CREATED:20260419T171545Z
LAST-MODIFIED:20260419T171545Z
UID:31573-1784638800-1784638800@harmonygrove-umc.org
SUMMARY:Summer Bible Study
DESCRIPTION:Study of “The Familiar Stranger: (Re) Introducing the Holy Spirit to Those in Search of an Experiential Spirituality” by Tyler Staton
URL:https://harmonygrove-umc.org/event/summer-bible-study-5/
ATTACH;FMTTYPE=image/jpeg:https://harmonygrove-umc.org/wp-content/uploads/2026/04/The-Familiar-Stranger.jpg
END:VEVENT
BEGIN:VEVENT
DTSTART;TZID=America/New_York:20260721T130000
DTEND;TZID=America/New_York:20260721T130000
DTSTAMP:20260419T133431
CREATED:20260419T172847Z
LAST-MODIFIED:20260419T172847Z
UID:31581-1784638800-1784638800@harmonygrove-umc.org
SUMMARY:Prayer Gathering
DESCRIPTION:
URL:https://harmonygrove-umc.org/event/prayer-gathering-87/
ATTACH;FMTTYPE=image/jpeg:https://harmonygrove-umc.org/wp-content/uploads/2023/11/prayer-meeting.jpg
END:VEVENT
BEGIN:VEVENT
DTSTART;TZID=America/New_York:20260722T163000
DTEND;TZID=America/New_York:20260722T163000
DTSTAMP:20260419T133431
CREATED:20260419T173115Z
LAST-MODIFIED:20260419T173115Z
UID:31589-1784737800-1784737800@harmonygrove-umc.org
SUMMARY:Choir Practice
DESCRIPTION:
URL:https://harmonygrove-umc.org/event/choir-practice-133/
ATTACH;FMTTYPE=image/jpeg:https://harmonygrove-umc.org/wp-content/uploads/2023/10/Choir-Practice-scaled.jpg
END:VEVENT
BEGIN:VEVENT
DTSTART;TZID=America/New_York:20260728T130000
DTEND;TZID=America/New_York:20260728T130000
DTSTAMP:20260419T133431
CREATED:20260419T171622Z
LAST-MODIFIED:20260419T171622Z
UID:31575-1785243600-1785243600@harmonygrove-umc.org
SUMMARY:Summer Bible Study
DESCRIPTION:Study of “The Familiar Stranger: (Re) Introducing the Holy Spirit to Those in Search of an Experiential Spirituality” by Tyler Staton
URL:https://harmonygrove-umc.org/event/summer-bible-study-6/
ATTACH;FMTTYPE=image/jpeg:https://harmonygrove-umc.org/wp-content/uploads/2026/04/The-Familiar-Stranger.jpg
END:VEVENT
BEGIN:VEVENT
DTSTART;TZID=America/New_York:20260728T130000
DTEND;TZID=America/New_York:20260728T130000
DTSTAMP:20260419T133431
CREATED:20260419T172921Z
LAST-MODIFIED:20260419T172921Z
UID:31583-1785243600-1785243600@harmonygrove-umc.org
SUMMARY:Prayer Gathering
DESCRIPTION:
URL:https://harmonygrove-umc.org/event/prayer-gathering-88/
ATTACH;FMTTYPE=image/jpeg:https://harmonygrove-umc.org/wp-content/uploads/2023/11/prayer-meeting.jpg
END:VEVENT
BEGIN:VEVENT
DTSTART;TZID=America/New_York:20260729T163000
DTEND;TZID=America/New_York:20260729T163000
DTSTAMP:20260419T133431
CREATED:20260419T173145Z
LAST-MODIFIED:20260419T173145Z
UID:31591-1785342600-1785342600@harmonygrove-umc.org
SUMMARY:Choir Practice
DESCRIPTION:
URL:https://harmonygrove-umc.org/event/choir-practice-134/
ATTACH;FMTTYPE=image/jpeg:https://harmonygrove-umc.org/wp-content/uploads/2023/10/Choir-Practice-scaled.jpg
END:VEVENT
BEGIN:VEVENT
DTSTART;TZID=America/New_York:20260801T100000
DTEND;TZID=America/New_York:20260801T140000
DTSTAMP:20260419T133431
CREATED:20260223T144503Z
LAST-MODIFIED:20260223T144503Z
UID:31449-1785578400-1785592800@harmonygrove-umc.org
SUMMARY:Back to School Bash Event
DESCRIPTION:Backpack and Socks Ministry- come to Harmony Grove United Methodist Church for giveaway of socks and backpacks filled with school supplies to get kids ready for the school year!
URL:https://harmonygrove-umc.org/event/back-to-school-bash-event-3/
ATTACH;FMTTYPE=image/png:https://harmonygrove-umc.org/wp-content/uploads/2024/06/Backpack-and-Sock-Ministry.png
END:VEVENT
END:VCALENDAR